BEGIN:VCALENDAR
VERSION:2.0
PRODID:-//Label Brut - ECPv4.9.7//NONSGML v1.0//EN
CALSCALE:GREGORIAN
METHOD:PUBLISH
X-WR-CALNAME:Label Brut
X-ORIGINAL-URL:https://www.labelbrut.fr
X-WR-CALDESC:Évènements pour Label Brut
BEGIN:VTIMEZONE
TZID:"Europe/Paris"
BEGIN:DAYLIGHT
TZOFFSETFROM:+0100
TZOFFSETTO:+0200
TZNAME:CEST
DTSTART:20230326T010000
END:DAYLIGHT
BEGIN:STANDARD
TZOFFSETFROM:+0200
TZOFFSETTO:+0100
TZNAME:CET
DTSTART:20231029T010000
END:STANDARD
END:VTIMEZONE
BEGIN:VEVENT
DTSTART;TZID="Europe/Paris":20231128T180000
DTEND;TZID="Europe/Paris":20231128T190000
DTSTAMP:20260420T065706
CREATED:20230904T143315Z
LAST-MODIFIED:20230927T132024Z
UID:1894-1701194400-1701198000@www.labelbrut.fr
SUMMARY:Mooooooooonstres - Plancoet Dinan 2
DESCRIPTION:M \n
URL:https://www.labelbrut.fr/representation/mooooooooonstres-plancoet-dinan-2/
LOCATION:Plancoët\, Plancoët\, 22
END:VEVENT
END:VCALENDAR