BEGIN:VCALENDAR
VERSION:2.0
PRODID:-//Label Brut - ECPv4.9.7//NONSGML v1.0//EN
CALSCALE:GREGORIAN
METHOD:PUBLISH
X-WR-CALNAME:Label Brut
X-ORIGINAL-URL:https://www.labelbrut.fr
X-WR-CALDESC:Évènements pour Label Brut
BEGIN:VTIMEZONE
TZID:"Europe/Paris"
BEGIN:DAYLIGHT
TZOFFSETFROM:+0100
TZOFFSETTO:+0200
TZNAME:CEST
DTSTART:20210328T010000
END:DAYLIGHT
BEGIN:STANDARD
TZOFFSETFROM:+0200
TZOFFSETTO:+0100
TZNAME:CET
DTSTART:20211031T010000
END:STANDARD
END:VTIMEZONE
BEGIN:VEVENT
DTSTART;TZID="Europe/Paris":20211119T153000
DTEND;TZID="Europe/Paris":20211119T210000
DTSTAMP:20260421T094502
CREATED:20210708T195246Z
LAST-MODIFIED:20210708T195314Z
UID:1342-1637335800-1637355600@www.labelbrut.fr
SUMMARY:Rencontre Professionelle + Crash-text
DESCRIPTION:Reash \n
URL:https://www.labelbrut.fr/representation/rencontre-professionelle-crash-text-les-lilas-en-scene/
LOCATION:Théâtre Maison d’Elsa\, Théâtre Maison d'Elsa\, Jarny\, 54
END:VEVENT
END:VCALENDAR